BEGIN:VCALENDAR
VERSION:2.0
PRODID:-//NCJW - ECPv6.15.20//NONSGML v1.0//EN
CALSCALE:GREGORIAN
METHOD:PUBLISH
X-WR-CALNAME:NCJW
X-ORIGINAL-URL:https://ncjwsf.org
X-WR-CALDESC:Events for NCJW
REFRESH-INTERVAL;VALUE=DURATION:PT1H
X-Robots-Tag:noindex
X-PUBLISHED-TTL:PT1H
BEGIN:VTIMEZONE
TZID:America/Los_Angeles
BEGIN:DAYLIGHT
TZOFFSETFROM:-0800
TZOFFSETTO:-0700
TZNAME:PDT
DTSTART:20230312T100000
END:DAYLIGHT
BEGIN:STANDARD
TZOFFSETFROM:-0700
TZOFFSETTO:-0800
TZNAME:PST
DTSTART:20231105T090000
END:STANDARD
BEGIN:DAYLIGHT
TZOFFSETFROM:-0800
TZOFFSETTO:-0700
TZNAME:PDT
DTSTART:20240310T100000
END:DAYLIGHT
BEGIN:STANDARD
TZOFFSETFROM:-0700
TZOFFSETTO:-0800
TZNAME:PST
DTSTART:20241103T090000
END:STANDARD
BEGIN:DAYLIGHT
TZOFFSETFROM:-0800
TZOFFSETTO:-0700
TZNAME:PDT
DTSTART:20250309T100000
END:DAYLIGHT
BEGIN:STANDARD
TZOFFSETFROM:-0700
TZOFFSETTO:-0800
TZNAME:PST
DTSTART:20251102T090000
END:STANDARD
END:VTIMEZONE
BEGIN:VTIMEZONE
TZID:UTC
BEGIN:STANDARD
TZOFFSETFROM:+0000
TZOFFSETTO:+0000
TZNAME:UTC
DTSTART:20210101T000000
END:STANDARD
END:VTIMEZONE
BEGIN:VEVENT
DTSTART;TZID=America/Los_Angeles:20240609T113000
DTEND;TZID=America/Los_Angeles:20240609T140000
DTSTAMP:20260420T194446
CREATED:20231017T225813Z
LAST-MODIFIED:20240328T195614Z
UID:10000202-1717932600-1717941600@ncjwsf.org
SUMMARY:Annual Awards Luncheon
DESCRIPTION:The National Council of Jewish Women San Francisco cordially invites you to our 2024 Awards Luncheon & Benefit. \n\n\n\nJoin us for a special celebration benefiting our impactful programs and honoring the extraordinary achievements of the 2024 award recipients: \n\n\n\nHannah G. Solomon Award – Roma Guy\, Social Justice Activist and Policy Leader \n\n\n\nInspiring Leadership Award – Tyler Gregory\, Chief Executive Officer\, Jewish Community Relations Council\, Bay Area \n\n\n\nOutstanding Volunteer Achievement Award – Lois Hirsch\, Board Member\, NCJW San Francisco \n\n\n\nPlease RSVP by May 29th. \n\n\n\nGet your ticket(s) and make your menu choice at https://2024-ncjw-awards.eventbrite.com. \n\n\n\nFree parking available at the venue. \n\n\n\nQuestions? Call us at 415-346-4600 or email us at info@ncjwsf.org.
URL:https://ncjwsf.org/event/annual-awards-luncheon-benefit/
LOCATION:Presidio Golf & Concordia Club 8 Presidio Terrace\, San Francisco\, CA 94118\, Presidio Golf & Concordia Club 8 Presidio Terrace\, San Francisco\, CA 94118
END:VEVENT
BEGIN:VEVENT
DTSTART;TZID=UTC:20220522T113000
DTEND;TZID=UTC:20220522T140000
DTSTAMP:20260420T194446
CREATED:20220427T120804Z
LAST-MODIFIED:20220429T231558Z
UID:10000159-1653219000-1653228000@ncjwsf.org
SUMMARY:2022 Awards Luncheon & Benefit
DESCRIPTION:The National Council of Jewish Women San Francisco \n\n\n\nCordially invites you to our 2022 Awards Luncheon & Benefit \n\n\n\nJoin us with partners and members as we honor the extraordinary achievements of our award recipients: \n\n\n\nHannah G. Solomon Award | info                                                                        \n\n\n\n\n\n\n\n\n\n\n\nU.S. Congresswoman Jackie Speier\, 14th Congressional District of California \n\n\n\nCongresswoman Jackie Speier is a fearless fighter for women’s equality\, LGBTQ rights and the disenfranchised who has dedicated her life to eliminating government corruption while working to strengthen America’s national and economic security…. MORE \n\n\n\n\n\n \n\n\n\nInspiring Leadership Award\n\n\n\n\n\n\n\n\n\n\n\nCindy Rogoway\, Executive Director of Hebrew Free Loan \n\n\n\nIn May 2014\, Cindy Rogoway became the Executive Director of Hebrew Free Loan\, the first woman to assume this role since the agency was founded in 1897. For the past 34 years\, Cindy has worked in fundraising and non-profit management within the San Francisco Jewish community…. MORE  \n\n\n\n\n\nOutstanding Volunteer Achievement Award\n\n\n\n\n\n\n\n\n\n\n\nTeddi Silverman\, Vice President of NCJW San Francisco \n\n\n\nFor almost four decades\, Teddi Silverman has been fighting for social justice and equal rights protection and to improve the lives of women and children. She has worked as a professional and volunteer with a variety of non-profit organizations and community-based coalitions…. MORE \n\n\n\n\n\nSPECIAL GUEST:\n\n\n\n\n\n\n\n\n\n\n\nDhaya Lakshminarayanan\, Stand-up Comedian\, Storyteller and Writer. \n\n\n\nDhaya received the Liz Carpenter Political Humor Award (previously awarded to Samantha Bee\, Wanda Sykes and Mark Russell) for her stand-up. Comedy Central Asia crowned her the Grand Prize Winner of “The Ultimate Comedy Challenge” filmed in Singapore. Bay Area PBS affiliate KQED named her one of the twenty “Women to Watch” ….  MORE \n\n\n\n\n\n \n\n\n\n\n\n		 PLEASE REGISTER HERE\n\n\n\n\n \n\n\n\nFree parking available. \n\n\n\n\n\n		 DONATE IN HONOR OF THE AWARD RECIPIENTS\n\n\n\n\nFor donations via check and congratulatory notes/certificates\, please use the following mailing address: NCJW San Francisco\, 2000 Van Ness Avenue\, Suite 411\, San Francisco\, CA 94109. \n\n\n\nPlease RSVP by Wednesday\, May 18Download the  reply card.  \n\n\n\nAdmission is free for students.To get your free ticket or for more information\,  please email us at  antonialavine@ncjwsf.org \n\n\n\nWe hope to see you there on May 22rd!
URL:https://ncjwsf.org/event/2022-awards-luncheon-benefit/
LOCATION:Presidio Golf & Concordia Club 8 Presidio Terrace\, San Francisco\, CA 94118\, Presidio Golf & Concordia Club 8 Presidio Terrace\, San Francisco\, CA 94118
ATTACH;FMTTYPE=image/png:https://ncjwsf.org/wp-content/uploads/NCJWSF.png
ORGANIZER;CN="National Council of Jewish Women San Francisco":MAILTO:antonialavine@ncjwsf.org
END:VEVENT
END:VCALENDAR