BEGIN:VCALENDAR
VERSION:2.0
PRODID:-//NCJW - ECPv6.15.20//NONSGML v1.0//EN
CALSCALE:GREGORIAN
METHOD:PUBLISH
X-ORIGINAL-URL:https://ncjwsf.org
X-WR-CALDESC:Events for NCJW
REFRESH-INTERVAL;VALUE=DURATION:PT1H
X-Robots-Tag:noindex
X-PUBLISHED-TTL:PT1H
BEGIN:VTIMEZONE
TZID:America/Los_Angeles
BEGIN:DAYLIGHT
TZOFFSETFROM:-0800
TZOFFSETTO:-0700
TZNAME:PDT
DTSTART:20210314T100000
END:DAYLIGHT
BEGIN:STANDARD
TZOFFSETFROM:-0700
TZOFFSETTO:-0800
TZNAME:PST
DTSTART:20211107T090000
END:STANDARD
BEGIN:DAYLIGHT
TZOFFSETFROM:-0800
TZOFFSETTO:-0700
TZNAME:PDT
DTSTART:20220313T100000
END:DAYLIGHT
BEGIN:STANDARD
TZOFFSETFROM:-0700
TZOFFSETTO:-0800
TZNAME:PST
DTSTART:20221106T090000
END:STANDARD
BEGIN:DAYLIGHT
TZOFFSETFROM:-0800
TZOFFSETTO:-0700
TZNAME:PDT
DTSTART:20230312T100000
END:DAYLIGHT
BEGIN:STANDARD
TZOFFSETFROM:-0700
TZOFFSETTO:-0800
TZNAME:PST
DTSTART:20231105T090000
END:STANDARD
BEGIN:DAYLIGHT
TZOFFSETFROM:-0800
TZOFFSETTO:-0700
TZNAME:PDT
DTSTART:20240310T100000
END:DAYLIGHT
BEGIN:STANDARD
TZOFFSETFROM:-0700
TZOFFSETTO:-0800
TZNAME:PST
DTSTART:20241103T090000
END:STANDARD
BEGIN:DAYLIGHT
TZOFFSETFROM:-0800
TZOFFSETTO:-0700
TZNAME:PDT
DTSTART:20250309T100000
END:DAYLIGHT
BEGIN:STANDARD
TZOFFSETFROM:-0700
TZOFFSETTO:-0800
TZNAME:PST
DTSTART:20251102T090000
END:STANDARD
BEGIN:DAYLIGHT
TZOFFSETFROM:-0800
TZOFFSETTO:-0700
TZNAME:PDT
DTSTART:20260308T100000
END:DAYLIGHT
BEGIN:STANDARD
TZOFFSETFROM:-0700
TZOFFSETTO:-0800
TZNAME:PST
DTSTART:20261101T090000
END:STANDARD
END:VTIMEZONE
BEGIN:VTIMEZONE
TZID:UTC
BEGIN:STANDARD
TZOFFSETFROM:+0000
TZOFFSETTO:+0000
TZNAME:UTC
DTSTART:20210101T000000
END:STANDARD
END:VTIMEZONE
BEGIN:VEVENT
DTSTART;TZID=America/Los_Angeles:20250601T113000
DTEND;TZID=America/Los_Angeles:20250601T140000
DTSTAMP:20260420T161155
CREATED:20250326T010310Z
LAST-MODIFIED:20250416T112332Z
UID:10000206-1748777400-1748786400@ncjwsf.org
SUMMARY:2025 Annual Awards Luncheon
DESCRIPTION:The National Council of Jewish Women San Francisco cordially invites you to our 2025 Awards Luncheon! \n\n\n\nJoin us for a special celebration benefiting our impactful programs and honoring the extraordinary achievements of the 2025 award recipients: \n\n\n\nHannah G. Solomon Award – Sunny Schwartz\, Writer\, Advocate\, Criminal Justice Reform Consultant and Change Maker \n\n\n\nInspiring Leadership Award – the Reproductive Justice Committee of Congregation Beth Am\, Los Altos Hills \n\n\n\nOutstanding Volunteer Achievement Award – Ellyn Levinson\, Board Member and Policy Chair\, NCJW San Francisco \n\n\n\nTo attend the Luncheon\, please purchase your tickets HERE.\n\n\n\nFree parking available at the venue. \n\n\n\nQuestions? Call us at 415-346-4600 or email us at info@ncjwsf.org.
URL:https://ncjwsf.org/event/2025-annual-awards-luncheon/
LOCATION:Presidio Golf & Concordia Club\, Presidio Golf and Concordia Club\, 8 Presidio Terrace\, San Francisco\, CA\, 94118\, United States
END:VEVENT
BEGIN:VEVENT
DTSTART;TZID=America/Los_Angeles:20240609T113000
DTEND;TZID=America/Los_Angeles:20240609T140000
DTSTAMP:20260420T161155
CREATED:20231017T225813Z
LAST-MODIFIED:20240328T195614Z
UID:10000202-1717932600-1717941600@ncjwsf.org
SUMMARY:Annual Awards Luncheon
DESCRIPTION:The National Council of Jewish Women San Francisco cordially invites you to our 2024 Awards Luncheon & Benefit. \n\n\n\nJoin us for a special celebration benefiting our impactful programs and honoring the extraordinary achievements of the 2024 award recipients: \n\n\n\nHannah G. Solomon Award – Roma Guy\, Social Justice Activist and Policy Leader \n\n\n\nInspiring Leadership Award – Tyler Gregory\, Chief Executive Officer\, Jewish Community Relations Council\, Bay Area \n\n\n\nOutstanding Volunteer Achievement Award – Lois Hirsch\, Board Member\, NCJW San Francisco \n\n\n\nPlease RSVP by May 29th. \n\n\n\nGet your ticket(s) and make your menu choice at https://2024-ncjw-awards.eventbrite.com. \n\n\n\nFree parking available at the venue. \n\n\n\nQuestions? Call us at 415-346-4600 or email us at info@ncjwsf.org.
URL:https://ncjwsf.org/event/annual-awards-luncheon-benefit/
LOCATION:Presidio Golf & Concordia Club 8 Presidio Terrace\, San Francisco\, CA 94118\, Presidio Golf & Concordia Club 8 Presidio Terrace\, San Francisco\, CA 94118
END:VEVENT
BEGIN:VEVENT
DTSTART;TZID=America/Los_Angeles:20240604T133000
DTEND;TZID=America/Los_Angeles:20240604T143000
DTSTAMP:20260420T161155
CREATED:20231017T225353Z
LAST-MODIFIED:20240430T210938Z
UID:10000201-1717507800-1717511400@ncjwsf.org
SUMMARY:NCJW San Francisco Annual Meeting
DESCRIPTION:Join us via zoom at the annual membership meeting of NCJW San Francisco as we present the year end update on programing and administration and discuss our future activities and partnerships. To attend\, please register HERE.
URL:https://ncjwsf.org/event/ncjw-san-francisco-board-meeting-10/
END:VEVENT
BEGIN:VEVENT
DTSTART;TZID=America/Los_Angeles:20240415T120000
DTEND;TZID=America/Los_Angeles:20240415T133000
DTSTAMP:20260420T161155
CREATED:20231017T225318Z
LAST-MODIFIED:20231017T225319Z
UID:10000200-1713182400-1713187800@ncjwsf.org
SUMMARY:NCJW San Francisco Board Meeting
DESCRIPTION:Join us via zoom as we present the monthly update on programing and administration and plan our future activities and partnerships.
URL:https://ncjwsf.org/event/ncjw-san-francisco-board-meeting-9/
END:VEVENT
BEGIN:VEVENT
DTSTART;TZID=America/Los_Angeles:20240325T120000
DTEND;TZID=America/Los_Angeles:20240325T133000
DTSTAMP:20260420T161155
CREATED:20231017T224625Z
LAST-MODIFIED:20231017T224627Z
UID:10000199-1711368000-1711373400@ncjwsf.org
SUMMARY:NCJW San Francisco Board Meeting
DESCRIPTION:Join us via zoom as we present the monthly update on programing and administration and plan our future activities and partnerships.
URL:https://ncjwsf.org/event/ncjw-san-francisco-board-meeting-8/
END:VEVENT
BEGIN:VEVENT
DTSTART;TZID=America/Los_Angeles:20240309T130000
DTEND;TZID=America/Los_Angeles:20240309T150000
DTSTAMP:20260420T161155
CREATED:20240122T214240Z
LAST-MODIFIED:20240122T214241Z
UID:10000205-1709989200-1709996400@ncjwsf.org
SUMMARY:2024 Teen Power Summit of SFCAHT & Honoring the Winners of the Teen Poster\, Writing & Music Contest
DESCRIPTION:Join us at the closing of the 15th Annual Awareness Campaign of the San Francisco Collaborative Against Human Trafficking as we honor the winners of the 2024 Teen Poster\, Writing\, and Music Contest and learn about youth achievements in human trafficking prevention.  \n\n\n\nYouth from across the Bay Area will gather to perform and share experiences in anti-trafficking advocacy. Students will learn how to join the movement locally and help create awareness of human trafficking in their own schools and community.  \n\n\n\nThis is a free event for ages 11 and up. Families\, teachers\, other professionals working with youth\, and community members are welcome. \n\n\n\nTo learn more about the Teen Poster\, Writing\, and Music Contest\, click here.
URL:https://ncjwsf.org/event/2024-teen-power-summit-of-sfcaht-honoring-the-winners-of-the-teen-poster-writing-music-contest/
LOCATION:San Francisco Main Public Library\, Koret Auditorium\, 100 Larkin Street\, San Francisco\, California\, 94102\, United States
END:VEVENT
BEGIN:VEVENT
DTSTART;TZID=America/Los_Angeles:20240226T120000
DTEND;TZID=America/Los_Angeles:20240226T133000
DTSTAMP:20260420T161155
CREATED:20231017T224455Z
LAST-MODIFIED:20231017T224457Z
UID:10000198-1708948800-1708954200@ncjwsf.org
SUMMARY:NCJW San Francisco Board Meeting
DESCRIPTION:Join us via zoom as we present the monthly update on programing and administration and plan our future activities and partnerships.
URL:https://ncjwsf.org/event/ncjw-san-francisco-board-meeting-7/2024-02-26/
END:VEVENT
BEGIN:VEVENT
DTSTART;TZID=America/Los_Angeles:20240122T120000
DTEND;TZID=America/Los_Angeles:20240122T133000
DTSTAMP:20260420T161155
CREATED:20231017T224455Z
LAST-MODIFIED:20231017T224457Z
UID:10000197-1705924800-1705930200@ncjwsf.org
SUMMARY:NCJW San Francisco Board Meeting
DESCRIPTION:Join us via zoom as we present the monthly update on programing and administration and plan our future activities and partnerships.
URL:https://ncjwsf.org/event/ncjw-san-francisco-board-meeting-7/2024-01-22/
END:VEVENT
BEGIN:VEVENT
DTSTART;TZID=America/Los_Angeles:20231218T120000
DTEND;TZID=America/Los_Angeles:20231218T133000
DTSTAMP:20260420T161155
CREATED:20231017T223816Z
LAST-MODIFIED:20231017T223818Z
UID:10000196-1702900800-1702906200@ncjwsf.org
SUMMARY:NCJW San Francisco Board Meeting
DESCRIPTION:Join us via zoom as we present the monthly update on programing and administration and plan our future activities and partnerships.
URL:https://ncjwsf.org/event/ncjw-san-francisco-board-meeting-6/
END:VEVENT
BEGIN:VEVENT
DTSTART;TZID=America/Los_Angeles:20231203T103000
DTEND;TZID=America/Los_Angeles:20231203T150000
DTSTAMP:20260420T161155
CREATED:20231121T180350Z
LAST-MODIFIED:20231121T184243Z
UID:10000204-1701599400-1701615600@ncjwsf.org
SUMMARY:Am Tikvah Annual Chanukah Fair
DESCRIPTION:The Women of Congregation Am Tikvah and the National Council of Jewish Women San Francisco invite you\, along with your friends and family\, to join the festivities at the Annual Chanukah Fair on Sunday\, December 3rd from 10:30am to 3pm. Enjoy live music with the Jon Frank Jazz Quartet and the Jewish Folk Chorus\, as well as : \n\n\n\n\nTwenty artisans and their wares for purchase\n\n\n\n Silent auction AND raffle drawing with terrific prizes\, such as Warriors tickets\n\n\n\nChildren’s arts and game activities\n\n\n\nLatkes with all the trimmings AND this year new veggie options\n\n\n\nGift Shop table with Chanukah cards\, paper and other items to purchase \n\n\n\n Bake sale
URL:https://ncjwsf.org/event/am-tikvah-annual-chanukah-fair/
LOCATION:625 Brotherhood Way\, San Francisco CA 94132
END:VEVENT
BEGIN:VEVENT
DTSTART;TZID=America/Los_Angeles:20231201T120000
DTEND;TZID=America/Los_Angeles:20231201T133000
DTSTAMP:20260420T161155
CREATED:20231017T230137Z
LAST-MODIFIED:20231017T230138Z
UID:10000203-1701432000-1701437400@ncjwsf.org
SUMMARY:General Meeting of SFCAHT
DESCRIPTION:Save the date and join us December 1st as we discuss innovative programs aimed at human trafficking prevention\, prosecution and protection of the survivors. \n\n\n\nStay tuned for the meeting location\, program and registration information.
URL:https://ncjwsf.org/event/general-meeting-of-sfcaht-4/
END:VEVENT
BEGIN:VEVENT
DTSTART;TZID=America/Los_Angeles:20231127T120000
DTEND;TZID=America/Los_Angeles:20231127T133000
DTSTAMP:20260420T161155
CREATED:20231017T223224Z
LAST-MODIFIED:20231017T223226Z
UID:10000195-1701086400-1701091800@ncjwsf.org
SUMMARY:NCJW San Francisco Board Meeting
DESCRIPTION:Join us via zoom as we present the monthly update on programing and administration and plan our future activities and partnerships.
URL:https://ncjwsf.org/event/ncjw-san-francisco-board-meeting-5/
END:VEVENT
BEGIN:VEVENT
DTSTART;TZID=America/Los_Angeles:20231103T083000
DTEND;TZID=America/Los_Angeles:20231103T163000
DTSTAMP:20260420T161155
CREATED:20230328T155820Z
LAST-MODIFIED:20231017T222605Z
UID:10000174-1699000200-1699029000@ncjwsf.org
SUMMARY:2023 Conference of SFCAHT
DESCRIPTION:Save the date and join us November 3 for a full day conference with law enforcement agencies\, businesses\, survivors\, service providers\, and volunteers to explore the complex aspects of combating human trafficking. The participants in the conference will learn about effective partnerships and innovative programs to support survivors of human trafficking and share experience and networks. Stay tuned for the conference registration information and program.
URL:https://ncjwsf.org/event/2023-conference-of-sfcaht/
LOCATION:Milton Marks Conference Center\, San Francisco State Building\, 455 Golden Gate Avenue\, San Francisco\, California\, United States
END:VEVENT
BEGIN:VEVENT
DTSTART;TZID=America/Los_Angeles:20231023T120000
DTEND;TZID=America/Los_Angeles:20231023T133000
DTSTAMP:20260420T161155
CREATED:20231017T223033Z
LAST-MODIFIED:20231017T223035Z
UID:10000194-1698062400-1698067800@ncjwsf.org
SUMMARY:NCJW San Francisco Board Meeting
DESCRIPTION:Join us via zoom as we present the monthly update on programing and administration and plan our future activities and partnerships.
URL:https://ncjwsf.org/event/ncjw-san-francisco-board-meeting-4/
END:VEVENT
BEGIN:VEVENT
DTSTART;TZID=America/Los_Angeles:20231017T173000
DTEND;TZID=America/Los_Angeles:20231017T183000
DTSTAMP:20260420T161155
CREATED:20231017T222106Z
LAST-MODIFIED:20231017T222107Z
UID:10000193-1697563800-1697567400@ncjwsf.org
SUMMARY:Transgender Issues and Activism in the Bay Area
DESCRIPTION:As attacks on transgender rights and freedoms increase across the nation\, is the Bay Area providing a safe and nurturing space for its transgender community? What strategies are Bay Area leaders and activists using to secure rights for local transgender people\, particularly transgender youth? Please join us for a panel discussion with local leaders who strive to make the Bay Area a safe place for transgender people. \n\n\n\nP﻿anelists: \n\n\n\nPau Crego\, Executive Director of the SF Office of Transgender Initiatives \n\n\n\nHoney Mahogany\, District Director for Assemblymember Matt Haney and Chair of the San Francisco Democratic Party \n\n\n\nRick Oculto\, Director of Education for Our Family Coalition \n\n\n\nMaceo Perrson\, Board Co-Chair of the SF LGBT Center and Special Projects Manager of the City and County of San Francisco – Human Services Agency
URL:https://ncjwsf.org/event/transgender-issues-and-activism-in-the-bay-area/
END:VEVENT
BEGIN:VEVENT
DTSTART;TZID=America/Los_Angeles:20230911T120000
DTEND;TZID=America/Los_Angeles:20230911T133000
DTSTAMP:20260420T161155
CREATED:20230714T201417Z
LAST-MODIFIED:20230714T201418Z
UID:10000192-1694433600-1694439000@ncjwsf.org
SUMMARY:NCJW San Francisco Board Meeting
DESCRIPTION:Join us via zoom as we present the monthly update on programing and administration and plan our future activities and partnerships
URL:https://ncjwsf.org/event/ncjw-san-francisco-board-meeting-3/
END:VEVENT
BEGIN:VEVENT
DTSTART;TZID=America/Los_Angeles:20230602T120000
DTEND;TZID=America/Los_Angeles:20230602T133000
DTSTAMP:20260420T161155
CREATED:20230328T154903Z
LAST-MODIFIED:20230328T154904Z
UID:10000173-1685707200-1685712600@ncjwsf.org
SUMMARY:General Meeting of SFCAHT
DESCRIPTION:Join us June 2nd as we discuss innovative programs aimed at human trafficking prevention\, prosecution and protection of the survivors and plan the 2023 Conference of SFCAHT. \n\n\n\nStay tuned for program and registration information.
URL:https://ncjwsf.org/event/general-meeting-of-sfcaht-3/
END:VEVENT
BEGIN:VEVENT
DTSTART;TZID=America/Los_Angeles:20230522T120000
DTEND;TZID=America/Los_Angeles:20230522T133000
DTSTAMP:20260420T161155
CREATED:20230328T135533Z
LAST-MODIFIED:20230328T135534Z
UID:10000172-1684756800-1684762200@ncjwsf.org
SUMMARY:2023 Annual Meeting & Installation of Officers and Directors
DESCRIPTION:Save the date and join us for our virtual annual meeting as we report the NCJW San Francisco work throughout 2022-2023 fiscal year and install our officers and directors. Stay tuned for the meeting program\, registration information and the 2023 slate of officers and directors.
URL:https://ncjwsf.org/event/2023-annual-meeting-installation-of-officers-and-directors/
ORGANIZER;CN="National Council of Jewish Women San Francisco":MAILTO:antonialavine@ncjwsf.org
END:VEVENT
BEGIN:VEVENT
DTSTART;TZID=America/Los_Angeles:20230507T113000
DTEND;TZID=America/Los_Angeles:20230507T140000
DTSTAMP:20260420T161155
CREATED:20230328T030239Z
LAST-MODIFIED:20230404T124348Z
UID:10000171-1683459000-1683468000@ncjwsf.org
SUMMARY:2023 Awards Luncheon & Benefit
DESCRIPTION:The National Council of Jewish Women San Francisco cordially invites you to our 2023 Awards Luncheon & Benefit. \n\n\n\n\n\n\n\nJoin us as we honor the extraordinary achievements of our award recipients: \n\n\n\n\n\n\n\n\n\n\n\n\n\n\n\nHannah G. Solomon Award\n\n\n\nThe Hon. LaDoris Hazzard Cordell\n\n\n\nSuperior Court Judge (Ret.) \n\n\n\n \n\n\n\nLaDoris Hazzard Cordell\, a 1974 graduate of Stanford Law School\, was the first lawyer to open a law practice in East Palo Alto\, a low-income community of color… \n\n\n\nREAD MORE \n\n\n\n\n\n\n\n\n\n\n\n\n\nOutstanding Visionary & Human Rights Advocate Award\n\n\n\nNancy Skinner\n\n\n\nCalifornia State Senator\, District 9 \n\n\n\n \n\n\n\nA social justice advocate and energy and climate protection trailblazer\, California State Senator Nancy Skinner began her public service in 1984 when she was elected to the Berkeley City Council as a student at Cal… \n\n\n\nREAD MORE \n\n\n\n\n\n\n\n\n\n\n\n\n\nOutstanding Volunteer Achievement Award\n\n\n\nKatie Koyfman\n\n\n\nVice President\, NCJW San Francisco \n\n\n\n \n\n\n\nKatie Koyfman\, a passionate public affairs and community engagement professional\, advocates for social justice in areas of fundamental need: health\, housing\, equity and inclusion\, civic rights\, and economic opportunity… \n\n\n\nREAD MORE \n\n\n\n\n\n \n\n\n\n\nTickets\n\n\n\n\n\n\n\n\nReserve your seat\, get your ticket(s) and make your menu choice by April 30th by clicking on the green button “Tickets” above. \n\n\n\n\n\n\n\nFree parking available at the venue. \n\n\n\n\n\n\n\nQuestions? Call us at 415-346-4600 or email antonialavine@ncjwsf.org.
URL:https://ncjwsf.org/event/2023-awards-luncheon-benefit/
LOCATION:Presidio Golf and Concordia Club\, Presidio Golf and Concordia Club\, 8 Presidio Terrace\, San Francsico\, California\, 94118\, United States
ATTACH;FMTTYPE=image/png:https://ncjwsf.org/wp-content/uploads/2023-awards-luncheon-benefit-invitation.png
ORGANIZER;CN="National Council of Jewish Women San Francisco":MAILTO:antonialavine@ncjwsf.org
END:VEVENT
BEGIN:VEVENT
DTSTART;TZID=America/Los_Angeles:20230424T000000
DTEND;TZID=America/Los_Angeles:20230424T133000
DTSTAMP:20260420T161155
CREATED:20220909T211707Z
LAST-MODIFIED:20220910T064156Z
UID:10000167-1682294400-1682343000@ncjwsf.org
SUMMARY:NCJW San Francisco Board Meeting
DESCRIPTION:Via Zoom\n\n\n\nJoin us as we present the monthly update on programing and administration and plan our future activities and partnerships
URL:https://ncjwsf.org/event/ncjw-san-francisco-board-meeting/2023-04-24/
ATTACH;FMTTYPE=image/png:https://ncjwsf.org/wp-content/uploads/NCJWSF.png
END:VEVENT
BEGIN:VEVENT
DTSTART;TZID=America/Los_Angeles:20230327T000000
DTEND;TZID=America/Los_Angeles:20230327T133000
DTSTAMP:20260420T161155
CREATED:20220909T211707Z
LAST-MODIFIED:20220910T064156Z
UID:10000166-1679875200-1679923800@ncjwsf.org
SUMMARY:NCJW San Francisco Board Meeting
DESCRIPTION:Via Zoom\n\n\n\nJoin us as we present the monthly update on programing and administration and plan our future activities and partnerships
URL:https://ncjwsf.org/event/ncjw-san-francisco-board-meeting/2023-03-27/
ATTACH;FMTTYPE=image/png:https://ncjwsf.org/wp-content/uploads/NCJWSF.png
END:VEVENT
BEGIN:VEVENT
DTSTART;TZID=America/Los_Angeles:20230227T000000
DTEND;TZID=America/Los_Angeles:20230227T133000
DTSTAMP:20260420T161155
CREATED:20220909T211707Z
LAST-MODIFIED:20220910T064156Z
UID:10000165-1677456000-1677504600@ncjwsf.org
SUMMARY:NCJW San Francisco Board Meeting
DESCRIPTION:Via Zoom\n\n\n\nJoin us as we present the monthly update on programing and administration and plan our future activities and partnerships
URL:https://ncjwsf.org/event/ncjw-san-francisco-board-meeting/2023-02-27/
ATTACH;FMTTYPE=image/png:https://ncjwsf.org/wp-content/uploads/NCJWSF.png
END:VEVENT
BEGIN:VEVENT
DTSTART;TZID=America/Los_Angeles:20230123T000000
DTEND;TZID=America/Los_Angeles:20230123T133000
DTSTAMP:20260420T161155
CREATED:20220909T211707Z
LAST-MODIFIED:20220910T064156Z
UID:10000164-1674432000-1674480600@ncjwsf.org
SUMMARY:NCJW San Francisco Board Meeting
DESCRIPTION:Via Zoom\n\n\n\nJoin us as we present the monthly update on programing and administration and plan our future activities and partnerships
URL:https://ncjwsf.org/event/ncjw-san-francisco-board-meeting/2023-01-23/
ATTACH;FMTTYPE=image/png:https://ncjwsf.org/wp-content/uploads/NCJWSF.png
END:VEVENT
BEGIN:VEVENT
DTSTART;TZID=America/Los_Angeles:20221128T000000
DTEND;TZID=America/Los_Angeles:20221128T133000
DTSTAMP:20260420T161155
CREATED:20220909T211707Z
LAST-MODIFIED:20220910T064156Z
UID:10000163-1669593600-1669642200@ncjwsf.org
SUMMARY:NCJW San Francisco Board Meeting
DESCRIPTION:Via Zoom\n\n\n\nJoin us as we present the monthly update on programing and administration and plan our future activities and partnerships
URL:https://ncjwsf.org/event/ncjw-san-francisco-board-meeting/2022-11-28/
ATTACH;FMTTYPE=image/png:https://ncjwsf.org/wp-content/uploads/NCJWSF.png
END:VEVENT
BEGIN:VEVENT
DTSTART;TZID=America/Los_Angeles:20221118T000000
DTEND;TZID=America/Los_Angeles:20221118T013000
DTSTAMP:20260420T161155
CREATED:20220909T213538Z
LAST-MODIFIED:20221230T144425Z
UID:10000169-1668729600-1668735000@ncjwsf.org
SUMMARY:General Meeting of SFCAHT
DESCRIPTION:Via Zoom\n\n\n\nJoin us November 18 as we discuss innovative programs aimed at human trafficking prevention\, prosecution and protection of the survivors. Stay tuned for registration information and the meeting agenda.
URL:https://ncjwsf.org/event/general-meeting-of-sfcaht-2/
ATTACH;FMTTYPE=image/png:https://ncjwsf.org/wp-content/uploads/sf-colaborative.png
END:VEVENT
BEGIN:VEVENT
DTSTART;TZID=America/Los_Angeles:20221024T000000
DTEND;TZID=America/Los_Angeles:20221024T133000
DTSTAMP:20260420T161155
CREATED:20220909T211707Z
LAST-MODIFIED:20220910T064156Z
UID:10000162-1666569600-1666618200@ncjwsf.org
SUMMARY:NCJW San Francisco Board Meeting
DESCRIPTION:Via Zoom\n\n\n\nJoin us as we present the monthly update on programing and administration and plan our future activities and partnerships
URL:https://ncjwsf.org/event/ncjw-san-francisco-board-meeting/2022-10-24/
ATTACH;FMTTYPE=image/png:https://ncjwsf.org/wp-content/uploads/NCJWSF.png
END:VEVENT
BEGIN:VEVENT
DTSTART;TZID=America/Los_Angeles:20221014T083000
DTEND;TZID=America/Los_Angeles:20221014T160000
DTSTAMP:20260420T161155
CREATED:20220909T212747Z
LAST-MODIFIED:20221230T144438Z
UID:10000168-1665736200-1665763200@ncjwsf.org
SUMMARY:2022 Annual Conference of SFCAHT Unraveling the Complexity of Human Trafficking
DESCRIPTION:Co-hosted by the National Council of Jewish Women San Francisco\n\n\n\nVia Zoom\n\n\n\nJoin us October 14 for a full day conference with law enforcement agencies\, businesses\, survivors\, service providers\, and volunteers as we explore anti-trafficking strategies and programs to prosecute and prevent human trafficking and protect the survivors. Learn about effective partnerships and innovative programs in the field. Share your experience and network with other professionals and volunteers fighting human trafficking and assisting the survivors. Stay tuned for registration information and event program.
URL:https://ncjwsf.org/event/2022-annual-conference-of-sfcaht-unraveling-the-complexity-of-human-trafficking/
ATTACH;FMTTYPE=image/png:https://ncjwsf.org/wp-content/uploads/sf-colaborative.png
END:VEVENT
BEGIN:VEVENT
DTSTART;TZID=America/Los_Angeles:20220919T000000
DTEND;TZID=America/Los_Angeles:20220919T133000
DTSTAMP:20260420T161156
CREATED:20220909T211707Z
LAST-MODIFIED:20220910T064156Z
UID:10000161-1663545600-1663594200@ncjwsf.org
SUMMARY:NCJW San Francisco Board Meeting
DESCRIPTION:Via Zoom\n\n\n\nJoin us as we present the monthly update on programing and administration and plan our future activities and partnerships
URL:https://ncjwsf.org/event/ncjw-san-francisco-board-meeting/2022-09-19/
ATTACH;FMTTYPE=image/png:https://ncjwsf.org/wp-content/uploads/NCJWSF.png
END:VEVENT
BEGIN:VEVENT
DTSTART;TZID=America/Los_Angeles:20220918T140000
DTEND;TZID=America/Los_Angeles:20220918T160000
DTSTAMP:20260420T161156
CREATED:20220911T085341Z
LAST-MODIFIED:20220911T085532Z
UID:10000170-1663509600-1663516800@ncjwsf.org
SUMMARY:Teach-In on Reparations for African Americans in California and San Francisco  
DESCRIPTION:In-person at Congregation Sherith Israel and Virtual\n\n\n\n\n	\n		Free and open to all \n			\n \n\n\n \n\n\n\n \n\n\n\n\n\nJoin us September 18 with the San Francisco Black & Jewish Unity Coalition!  \n\n\n\nThe program will feature the following speakers:  \n\n\n\nDr. Shirley Weber\, California Secretary of StateDr. Theopia Jackson\, The Association of Black Psychologists\, Inc. Saybrook UniversityEric McDonnell\, Chair of the SF Advisory Committee on Reparations for African AmericansRev. Dr. Amos C. Brown\, Vice chair of the CA State Task Force and member of the SF Advisory Committee \n\n\n\n\n\n\n\nTo attend virtually\, please register via the button below: \n\n\n\n\n\n\n\n\n\n\n\n \n\n\n\n  \n    \n  \n    \n      \n        \n                                \n              Register
URL:https://ncjwsf.org/event/teach-in-on-reparations-for-african-americans-in-california-and-san-francisco/
LOCATION:Congregation Sherith Israel\, 2266 California Street\, San Francisco\, CA\, CA 94115\, United States
ATTACH;FMTTYPE=image/png:https://ncjwsf.org/wp-content/uploads/NCJWSF.png
END:VEVENT
BEGIN:VEVENT
DTSTART;TZID=UTC:20220522T113000
DTEND;TZID=UTC:20220522T140000
DTSTAMP:20260420T161156
CREATED:20220427T120804Z
LAST-MODIFIED:20220429T231558Z
UID:10000159-1653219000-1653228000@ncjwsf.org
SUMMARY:2022 Awards Luncheon & Benefit
DESCRIPTION:The National Council of Jewish Women San Francisco \n\n\n\nCordially invites you to our 2022 Awards Luncheon & Benefit \n\n\n\nJoin us with partners and members as we honor the extraordinary achievements of our award recipients: \n\n\n\nHannah G. Solomon Award | info                                                                        \n\n\n\n\n\n\n\n\n\n\n\nU.S. Congresswoman Jackie Speier\, 14th Congressional District of California \n\n\n\nCongresswoman Jackie Speier is a fearless fighter for women’s equality\, LGBTQ rights and the disenfranchised who has dedicated her life to eliminating government corruption while working to strengthen America’s national and economic security…. MORE \n\n\n\n\n\n \n\n\n\nInspiring Leadership Award\n\n\n\n\n\n\n\n\n\n\n\nCindy Rogoway\, Executive Director of Hebrew Free Loan \n\n\n\nIn May 2014\, Cindy Rogoway became the Executive Director of Hebrew Free Loan\, the first woman to assume this role since the agency was founded in 1897. For the past 34 years\, Cindy has worked in fundraising and non-profit management within the San Francisco Jewish community…. MORE  \n\n\n\n\n\nOutstanding Volunteer Achievement Award\n\n\n\n\n\n\n\n\n\n\n\nTeddi Silverman\, Vice President of NCJW San Francisco \n\n\n\nFor almost four decades\, Teddi Silverman has been fighting for social justice and equal rights protection and to improve the lives of women and children. She has worked as a professional and volunteer with a variety of non-profit organizations and community-based coalitions…. MORE \n\n\n\n\n\nSPECIAL GUEST:\n\n\n\n\n\n\n\n\n\n\n\nDhaya Lakshminarayanan\, Stand-up Comedian\, Storyteller and Writer. \n\n\n\nDhaya received the Liz Carpenter Political Humor Award (previously awarded to Samantha Bee\, Wanda Sykes and Mark Russell) for her stand-up. Comedy Central Asia crowned her the Grand Prize Winner of “The Ultimate Comedy Challenge” filmed in Singapore. Bay Area PBS affiliate KQED named her one of the twenty “Women to Watch” ….  MORE \n\n\n\n\n\n \n\n\n\n\n\n		 PLEASE REGISTER HERE\n\n\n\n\n \n\n\n\nFree parking available. \n\n\n\n\n\n		 DONATE IN HONOR OF THE AWARD RECIPIENTS\n\n\n\n\nFor donations via check and congratulatory notes/certificates\, please use the following mailing address: NCJW San Francisco\, 2000 Van Ness Avenue\, Suite 411\, San Francisco\, CA 94109. \n\n\n\nPlease RSVP by Wednesday\, May 18Download the  reply card.  \n\n\n\nAdmission is free for students.To get your free ticket or for more information\,  please email us at  antonialavine@ncjwsf.org \n\n\n\nWe hope to see you there on May 22rd!
URL:https://ncjwsf.org/event/2022-awards-luncheon-benefit/
LOCATION:Presidio Golf & Concordia Club 8 Presidio Terrace\, San Francisco\, CA 94118\, Presidio Golf & Concordia Club 8 Presidio Terrace\, San Francisco\, CA 94118
ATTACH;FMTTYPE=image/png:https://ncjwsf.org/wp-content/uploads/NCJWSF.png
ORGANIZER;CN="National Council of Jewish Women San Francisco":MAILTO:antonialavine@ncjwsf.org
END:VEVENT
END:VCALENDAR