BEGIN:VCALENDAR
VERSION:2.0
PRODID:-//NCJW - ECPv6.15.20//NONSGML v1.0//EN
CALSCALE:GREGORIAN
METHOD:PUBLISH
X-WR-CALNAME:NCJW
X-ORIGINAL-URL:https://ncjwsf.org
X-WR-CALDESC:Events for NCJW
REFRESH-INTERVAL;VALUE=DURATION:PT1H
X-Robots-Tag:noindex
X-PUBLISHED-TTL:PT1H
BEGIN:VTIMEZONE
TZID:UTC
BEGIN:STANDARD
TZOFFSETFROM:+0000
TZOFFSETTO:+0000
TZNAME:UTC
DTSTART:20190101T000000
END:STANDARD
END:VTIMEZONE
BEGIN:VEVENT
DTSTART;TZID=UTC:20201113T120000
DTEND;TZID=UTC:20201113T133000
DTSTAMP:20260420T223458
CREATED:20201111T011452Z
LAST-MODIFIED:20201111T011453Z
UID:10000141-1605268800-1605274200@ncjwsf.org
SUMMARY:General Meeting of the San Francisco Collaborative Against Human Trafficking
DESCRIPTION:Via Zoom \n\n\n\nSave the date for the November general meeting of SFCAHT. Stay tuned for further information about the meeting agenda.To suggest items to the meeting agenda\, email us at info@sfcaht.org.
URL:https://ncjwsf.org/event/general-meeting-of-the-san-francisco-collaborative-against-human-trafficking/
ATTACH;FMTTYPE=image/jpeg:https://ncjwsf.org/wp-content/uploads/WEBSITE.jpg
END:VEVENT
BEGIN:VEVENT
DTSTART;TZID=UTC:20201026T120000
DTEND;TZID=UTC:20201026T133000
DTSTAMP:20260420T223458
CREATED:20201111T011358Z
LAST-MODIFIED:20201111T011359Z
UID:10000140-1603713600-1603719000@ncjwsf.org
SUMMARY:Board Meeting of the National Council of Jewish Women San Francisco
DESCRIPTION:Via Zoom \n\n\n\nJoin us as we present the monthly update on programing and administration and plan our future activities and partnerships.
URL:https://ncjwsf.org/event/board-meeting-of-the-national-council-of-jewish-women-san-francisco/
ATTACH;FMTTYPE=image/jpeg:https://ncjwsf.org/wp-content/uploads/Twitter-Profile-Photo-.jpg
END:VEVENT
BEGIN:VEVENT
DTSTART;TZID=UTC:20201009T083000
DTEND;TZID=UTC:20201009T153000
DTSTAMP:20260420T223458
CREATED:20201111T011252Z
LAST-MODIFIED:20201111T011253Z
UID:10000139-1602232200-1602257400@ncjwsf.org
SUMMARY:SFCAHT 2020 Annual Conference: ”Healing and Coping in Times of Crisis – Anti-Human Trafficking Symposium”
DESCRIPTION:Via Microsoft Teams \n\n\n\nSave the date and join us for a full day conference with law enforcement\, businesses\, survivors\, service providers and volunteers to explore good practices and policy solutions in combating human trafficking. Stay tuned for further information about the conference focus\, program and speakers. To join the Conference Planning Committee\, contactSFCAHT Coordinator Antonia Lavine at antonialavine@sfcaht.org.
URL:https://ncjwsf.org/event/sfcaht-2020-annual-conference-healing-and-coping-in-times-of-crisis-anti-human-trafficking-symposium/
ATTACH;FMTTYPE=image/jpeg:https://ncjwsf.org/wp-content/uploads/WEBSITE.jpg
END:VEVENT
END:VCALENDAR